BEGIN:VCALENDAR
CALSCALE:GREGORIAN
BEGIN:VEVENT
DTSTAMP:20231022T063224Z
DTSTART:20200820T130000Z
DTEND:20200820T143000Z
SUMMARY:Training: Introduction to the UNGC and CSR/RBC - D/E
UID:b3b66ff2-f956-4576-b25b-cdcec9586dc0
LOCATION:
DESCRIPTION:Thank you for registering to our event!\n\nWe're looking forward to seeing you there.\n\nHere are the event details:\n\nTraining: Introduction to the UNGC and CSR/RBC - D/E\n20 August 2020\, 15:00–16:30\nTraining
X-ALT-DESC;FMTTYPE=text/html:Thank you for registering to our event!\n\nWe're looking forward to seeing you there.\n\nHere are the event details:<br>Training: Introduction to the UNGC and CSR/RBC - D/E\n20 August 2020\, 15:00–16:30\nTraining
END:VEVENT
END:VCALENDAR
