BEGIN:VCALENDAR
CALSCALE:GREGORIAN
BEGIN:VEVENT
DTSTAMP:20231022T063215Z
DTSTART:20201109T130000Z
DTEND:20201109T143000Z
SUMMARY:Webinar: How to commit and communicate on human rights
UID:ba28bdc7-71dc-4bee-8fe0-5b2fc702d72a
LOCATION:
DESCRIPTION:Thank you for registering to our event!\n\nWe're looking forward to seeing you there.\n\nHere are the event details:\n\nWebinar: How to commit and communicate on human rights\n9 November 2020\, 14:00–15:30\nWebinar
X-ALT-DESC;FMTTYPE=text/html:Thank you for registering to our event!\n\nWe're looking forward to seeing you there.\n\nHere are the event details:<br>Webinar: How to commit and communicate on human rights\n9 November 2020\, 14:00–15:30\nWebinar
END:VEVENT
END:VCALENDAR
