BEGIN:VCALENDAR
CALSCALE:GREGORIAN
BEGIN:VEVENT
DTSTAMP:20231022T062938Z
DTSTART:20230510T070000Z
DTEND:20230510T100000Z
SUMMARY:Feedback Workshop TNFD framework v0.4 
UID:bbdb1216-2d6b-432f-a0e7-a266d3fa3e8b
LOCATION:
DESCRIPTION:Thank you for registering to our event!\n\nWe're looking forward to seeing you there.\n\nJoin Zoom Meeting\nhttps://us02web.zoom.us/j/86513127773\n\nMeeting ID: 865 1312 7773\nOne tap mobile\n+41225910156\,\,86513127773# Switzerland\n+41315280988\,\,86513127773# Switzerland\n\nDial by your location\n        +41 22 591 01 56 Switzerland\n        +41 31 528 09 88 Switzerland\n        +41 43 210 70 42 Switzerland\n        +41 43 210 71 08 Switzerland\n        +41 44 529 92 72 Switzerland\n        +41 22 591 00 05 Switzerland\n\n\nHere are the event details:\n\nFeedback Workshop TNFD framework v0.4 \n10 May 2023\, 09:00–12:00\nWebinar
X-ALT-DESC;FMTTYPE=text/html:Thank you for registering to our event!\n\nWe're looking forward to seeing you there.\n\nJoin Zoom Meeting\nhttps://us02web.zoom.us/j/86513127773\n\nMeeting ID: 865 1312 7773\nOne tap mobile\n+41225910156\,\,86513127773# Switzerland\n+41315280988\,\,86513127773# Switzerland\n\nDial by your location\n        +41 22 591 01 56 Switzerland\n        +41 31 528 09 88 Switzerland\n        +41 43 210 70 42 Switzerland\n        +41 43 210 71 08 Switzerland\n        +41 44 529 92 72 Switzerland\n        +41 22 591 00 05 Switzerland\n\n\nHere are the event details:<br>Feedback Workshop TNFD framework v0.4 \n10 May 2023\, 09:00–12:00\nWebinar
END:VEVENT
END:VCALENDAR
