BEGIN:VCALENDAR
CALSCALE:GREGORIAN
BEGIN:VEVENT
DTSTAMP:20231022T063139Z
DTSTART:20210621T130000Z
DTEND:20210621T143000Z
SUMMARY:Reducing Human Rights Risks associated with Private Security Providers along the Private Security Supply Chain
UID:bbfdc376-1cc4-4287-9047-21a07dcbef77
LOCATION:
DESCRIPTION:Thank you for registering to our event "Reducing Human Rights Risks associated with Private Security Providers along the Private Security Supply Chain"\n\nWe're looking forward to seeing you there.\n\nJoin Zoom Meeting\nhttps://us02web.zoom.us/j/83196516876\n\nMeeting ID: 831 9651 6876\n\nDial in according to current location (Switzerland):\n+41 44 529 92 72\n+41 22 591 00 05\n+41 22 591 01 56\n+41 31 528 09 88\n+41 43 210 70 42\n+41 43 210 71 08\nOther locations: https://us02web.zoom.us/u/kc7FZabPlf\n\nIf you have any questions or need to cancel your registration\, please reply to this Email.\n\nYour Global Compact Network Switzerland & Liechtenstein Secretariat\n\n\n\nHere are the event details:\n\nReducing Human Rights Risks associated with Private Security Providers along the Private Security Supply Chain\n21 June 2021\, 15:00–16:30 CEST\nOnline Event
X-ALT-DESC;FMTTYPE=text/html:Thank you for registering to our event "Reducing Human Rights Risks associated with Private Security Providers along the Private Security Supply Chain"\n\nWe're looking forward to seeing you there.\n\nJoin Zoom Meeting\nhttps://us02web.zoom.us/j/83196516876\n\nMeeting ID: 831 9651 6876\n\nDial in according to current location (Switzerland):\n+41 44 529 92 72\n+41 22 591 00 05\n+41 22 591 01 56\n+41 31 528 09 88\n+41 43 210 70 42\n+41 43 210 71 08\nOther locations: https://us02web.zoom.us/u/kc7FZabPlf\n\nIf you have any questions or need to cancel your registration\, please reply to this Email.\n\nYour Global Compact Network Switzerland & Liechtenstein Secretariat\n\n\n\nHere are the event details:<br>Reducing Human Rights Risks associated with Private Security Providers along the Private Security Supply Chain\n21 June 2021\, 15:00–16:30 CEST\nOnline Event
END:VEVENT
END:VCALENDAR
