BEGIN:VCALENDAR
CALSCALE:GREGORIAN
BEGIN:VEVENT
DTSTAMP:20231022T063114Z
DTSTART:20211208T090000Z
DTEND:20211208T103000Z
SUMMARY:Webinarreihe zu den UNGC Prinzipien 3-6 / ILO-Kernarbeitsnormen Webinar IV - Gleich behandeln: Verbot der Diskriminierun
UID:bc1da1a1-e029-4ea8-8d48-fca4765d956c
LOCATION:
X-ALT-DESC;FMTTYPE=text/html:
END:VEVENT
END:VCALENDAR
