BEGIN:VCALENDAR
CALSCALE:GREGORIAN
BEGIN:VEVENT
DTSTAMP:20231022T062816Z
DTSTART:20211019T144500Z
DTEND:20211019T160000Z
SUMMARY:Global Compact Network USA: Child Labour Webinar Series - Child Labour in the Agricultural Sector
UID:bc7a8585-0e7c-47b8-8460-15cf1e84d39c
LOCATION:
X-ALT-DESC;FMTTYPE=text/html:
END:VEVENT
END:VCALENDAR
