BEGIN:VCALENDAR
CALSCALE:GREGORIAN
BEGIN:VEVENT
DTSTAMP:20231022T062828Z
DTSTART:20221103T130000Z
DTEND:20221104T130000Z
SUMMARY:Information Session for the new Business & Human Rights Accelerator (afternoon)
UID:bc72699a-820c-42a3-8dd6-ecb56a13970e
LOCATION:
X-ALT-DESC;FMTTYPE=text/html:
END:VEVENT
END:VCALENDAR
