BEGIN:VCALENDAR
CALSCALE:GREGORIAN
BEGIN:VEVENT
DTSTAMP:20231022T063146Z
DTSTART:20220315T130000Z
DTEND:20220315T143000Z
SUMMARY:Einführung in die menschenrechtliche Sorgfaltsprüfung
UID:bcaae88f-b7ca-4248-a48b-a095027ceec8
LOCATION:
DESCRIPTION:Vielen Dank\, dass Sie sich zu unserer Veranstaltung "Einführung in die menschenrechtliche Sorgfaltsprüfung" angemeldet haben.\n\nWir freuen uns\, Sie dort zu sehen.\n\nAm Zoom Meeting teilnehmen:\nhttps://us02web.zoom.us/j/82771781980\n\nMeeting-ID: 827 7178 1980\n\nEinwahl nach aktuellem Standort (Schweiz):\n+41 44 529 92 72\n+41 22 591 00 05\n+41 22 591 01 56\n+41 31 528 09 88\n+41 43 210 70 42\n+41 43 210 71 08\nAndere Standorte: https://us02web.zoom.us/u/kc7FZabPlf\n\nÜber diesen Online-Fragebogen haben Sie die Möglichkeit\, bereits im Vorfeld der Veranstaltung in die Thematik einzutauchen und sich über den aktuellen Umsetzungsstand der menschenrechtlichen Sorgfaltsprüfung in Ihrem Unternehmen Gedanken zu machen:  https://bit.ly/34oCtnP\nHerzlichen Dank für Ihre Zeit - Ihre Antworten sind eine wichtige Grundlage für die Erarbeitung der genauen Inhalte der Veranstaltung.\n\nWenn Sie Fragen haben oder Ihre Anmeldung stornieren möchten\, antworten Sie bitte auf diese E-Mail.\n\nDetails zur Veranstaltung:\n\nEinführung in die menschenrechtliche Sorgfaltsprüfung\n15 March 2022\, 14:00–15:30 CET\nWebinar
X-ALT-DESC;FMTTYPE=text/html:Vielen Dank\, dass Sie sich zu unserer Veranstaltung "Einführung in die menschenrechtliche Sorgfaltsprüfung" angemeldet haben.\n\nWir freuen uns\, Sie dort zu sehen.\n\nAm Zoom Meeting teilnehmen:\nhttps://us02web.zoom.us/j/82771781980\n\nMeeting-ID: 827 7178 1980\n\nEinwahl nach aktuellem Standort (Schweiz):\n+41 44 529 92 72\n+41 22 591 00 05\n+41 22 591 01 56\n+41 31 528 09 88\n+41 43 210 70 42\n+41 43 210 71 08\nAndere Standorte: https://us02web.zoom.us/u/kc7FZabPlf\n\nÜber diesen Online-Fragebogen haben Sie die Möglichkeit\, bereits im Vorfeld der Veranstaltung in die Thematik einzutauchen und sich über den aktuellen Umsetzungsstand der menschenrechtlichen Sorgfaltsprüfung in Ihrem Unternehmen Gedanken zu machen:  https://bit.ly/34oCtnP\nHerzlichen Dank für Ihre Zeit - Ihre Antworten sind eine wichtige Grundlage für die Erarbeitung der genauen Inhalte der Veranstaltung.\n\nWenn Sie Fragen haben oder Ihre Anmeldung stornieren möchten\, antworten Sie bitte auf diese E-Mail.\n\nDetails zur Veranstaltung:<br>Einführung in die menschenrechtliche Sorgfaltsprüfung\n15 March 2022\, 14:00–15:30 CET\nWebinar
END:VEVENT
END:VCALENDAR
