BEGIN:VCALENDAR
CALSCALE:GREGORIAN
BEGIN:VEVENT
DTSTAMP:20231022T063031Z
DTSTART:20211109T100000Z
DTEND:20211109T110000Z
SUMMARY:Webinar: Wie erstelle ich den Fortschrittbericht (COP)?
UID:bf98acd7-771f-45c6-a0a8-fc6fb890dc0a
LOCATION:
X-ALT-DESC;FMTTYPE=text/html:
END:VEVENT
END:VCALENDAR
