BEGIN:VCALENDAR
CALSCALE:GREGORIAN
BEGIN:VEVENT
DTSTAMP:20231022T062754Z
DTSTART:20210503T130000Z
DTEND:20210503T144500Z
SUMMARY:Introduction to the UNGC and CSR/RBC - E
UID:c47fead8-d543-4209-b42d-8b46791146f7
LOCATION:
DESCRIPTION:Thank you for registering to our event "Introduction to the UNGC and CSR/RBC"\n\nWe're looking forward to seeing you there.\n\nJoin Zoom Meeting\nhttps://us02web.zoom.us/j/88324831722\n\nMeeting ID: 883 2483 1722\n\nDial in according to current location (Switzerland):\n+41 44 529 92 72\n+41 22 591 00 05\n+41 22 591 01 56\n+41 31 528 09 88\n+41 43 210 70 42\n+41 43 210 71 08\nOther locations: https://us02web.zoom.us/u/kc7FZabPlf\n\nIf you have any questions or need to cancel your registration\, please reply to this Email.\n\nYour Global Compact Network Switzerland & Liechtenstein Secretariat\n\n\n\nHere are the event details:\n\nIntroduction to the UNGC and CSR/RBC - E\n3 May 2021\, 15:00–16:45 CEST\nOnline Event
X-ALT-DESC;FMTTYPE=text/html:Thank you for registering to our event "Introduction to the UNGC and CSR/RBC"\n\nWe're looking forward to seeing you there.\n\nJoin Zoom Meeting\nhttps://us02web.zoom.us/j/88324831722\n\nMeeting ID: 883 2483 1722\n\nDial in according to current location (Switzerland):\n+41 44 529 92 72\n+41 22 591 00 05\n+41 22 591 01 56\n+41 31 528 09 88\n+41 43 210 70 42\n+41 43 210 71 08\nOther locations: https://us02web.zoom.us/u/kc7FZabPlf\n\nIf you have any questions or need to cancel your registration\, please reply to this Email.\n\nYour Global Compact Network Switzerland & Liechtenstein Secretariat\n\n\n\nHere are the event details:<br>Introduction to the UNGC and CSR/RBC - E\n3 May 2021\, 15:00–16:45 CEST\nOnline Event
END:VEVENT
END:VCALENDAR
