BEGIN:VCALENDAR
CALSCALE:GREGORIAN
BEGIN:VEVENT
DTSTAMP:20231022T063234Z
DTSTART:20221024T120000Z
DTEND:20221024T133000Z
SUMMARY:Webinar Series: Science Based Targets and Net-Zero (4/4)
UID:c4752c21-5f07-4d53-a322-a774e413c9a4
LOCATION:
DESCRIPTION:Thank you for registering to our event "Science Based Targets and Net-Zero".\n\nWe're looking forward to seeing you there.\n\nJoin Zoom Meeting\n https://us02web.zoom.us/j/83880897868\n\nMeeting ID:  838 8089 7868\n\nDial in according to current location (Switzerland):\n  +41 43 210 70 42 Schweiz\n  +41 43 210 71 08 Schweiz\n  +41 44 529 92 72 Schweiz\n  +41 22 591 00 05 Schweiz\n  +41 22 591 01 56 Schweiz\n  +41 31 528 09 88 Schweiz\nOther locations:    https://us02web.zoom.us/j/83880897868\n\n\nIf you have any questions or need to cancel your registration\, please reply to this Email.\n\nYour Global Compact Network Switzerland & Liechtenstein Secretariat\n\n\n\nHere are the event details\n\nWebinar Series: Science Based Targets and Net-Zero (4/4)\n24 October 2022\, 14:00–15:30\nWebinar
X-ALT-DESC;FMTTYPE=text/html:Thank you for registering to our event "Science Based Targets and Net-Zero".\n\nWe're looking forward to seeing you there.\n\nJoin Zoom Meeting\n https://us02web.zoom.us/j/83880897868\n\nMeeting ID:  838 8089 7868\n\nDial in according to current location (Switzerland):\n  +41 43 210 70 42 Schweiz\n  +41 43 210 71 08 Schweiz\n  +41 44 529 92 72 Schweiz\n  +41 22 591 00 05 Schweiz\n  +41 22 591 01 56 Schweiz\n  +41 31 528 09 88 Schweiz\nOther locations:    https://us02web.zoom.us/j/83880897868\n\n\nIf you have any questions or need to cancel your registration\, please reply to this Email.\n\nYour Global Compact Network Switzerland & Liechtenstein Secretariat\n\n\n\nHere are the event details<br>Webinar Series: Science Based Targets and Net-Zero (4/4)\n24 October 2022\, 14:00–15:30\nWebinar
END:VEVENT
END:VCALENDAR
