BEGIN:VCALENDAR
CALSCALE:GREGORIAN
BEGIN:VEVENT
DTSTAMP:20231022T062835Z
DTSTART:20210901T070000Z
DTEND:20210901T090000Z
SUMMARY:Aligning Your Business with the SDGs
UID:c559a9f1-517e-4d7d-bc65-513412d1a846
LOCATION:
X-ALT-DESC;FMTTYPE=text/html:
END:VEVENT
END:VCALENDAR
