BEGIN:VCALENDAR
CALSCALE:GREGORIAN
BEGIN:VEVENT
DTSTAMP:20231022T063324Z
DTSTART:20220518T073000Z
DTEND:20220518T103000Z
SUMMARY:Nachhaltige Anlagen: Lösungsansätze der Realwirtschaft für einen zukunftsweisenden Finanzplatz Schweiz
UID:c8aa3dd9-fff9-40e3-94db-f8bfefedc1a9
LOCATION:Fabrikstrasse 2\, 4056 Basel\, Switzerland
DESCRIPTION:Thank you for registering to our event "Nachhaltige Anlagen: Lösungsansätze der Realwirtschaft für einen zukunftsweisenden Finanzplatz Schweiz".\n\nWe're looking forward to seeing you there.\n\nJoin Meeting\nhttps://novartis.webcasts.com/starthere.jsp?ei=1536037&tp_key=3eff038937\n\nEvent Password: novartis2022862 2933 5445\n\nIf you have any questions or need to cancel your registration\, please reply to this Email.\n\nYour Global Compact Network Switzerland & Liechtenstein Secretariat\n\n\n\nHere are the event details:\n\nNachhaltige Anlagen: Lösungsansätze der Realwirtschaft für einen zukunftsweisenden Finanzplatz Schweiz\n18 May 2022\, 09:30–12:30 CEST\nNovartis Campus Basel\, Fabrikstrasse 2\, 4056 Basel\, Switzerland
X-ALT-DESC;FMTTYPE=text/html:Thank you for registering to our event "Nachhaltige Anlagen: Lösungsansätze der Realwirtschaft für einen zukunftsweisenden Finanzplatz Schweiz".\n\nWe're looking forward to seeing you there.\n\nJoin Meeting\nhttps://novartis.webcasts.com/starthere.jsp?ei=1536037&tp_key=3eff038937\n\nEvent Password: novartis2022862 2933 5445\n\nIf you have any questions or need to cancel your registration\, please reply to this Email.\n\nYour Global Compact Network Switzerland & Liechtenstein Secretariat\n\n\n\nHere are the event details:<br>Nachhaltige Anlagen: Lösungsansätze der Realwirtschaft für einen zukunftsweisenden Finanzplatz Schweiz\n18 May 2022\, 09:30–12:30 CEST\nNovartis Campus Basel\, Fabrikstrasse 2\, 4056 Basel\, Switzerland
END:VEVENT
END:VCALENDAR
