BEGIN:VCALENDAR
CALSCALE:GREGORIAN
BEGIN:VEVENT
DTSTAMP:20231022T063319Z
DTSTART:20210625T120000Z
DTEND:20210625T130000Z
SUMMARY:Key Embeddedness Indicator: A new tool to determine a company's contribution to SDG 8
UID:c903c750-f6d6-4480-b240-03cc17ba5c62
LOCATION:
DESCRIPTION:Thank you for registering to our event "Key Embeddedness Indicator: A new tool to determine a company's contribution to SDG 8".\n\nWe're looking forward to seeing you there.\n\nJoin Zoom Meeting\n https://us02web.zoom.us/j/87403802404\n\nMeeting ID: 874 0380 2404\n\nDial in according to current location (Switzerland):\n+41 44 529 92 72\n+41 22 591 00 05\n+41 22 591 01 56\n+41 31 528 09 88\n+41 43 210 70 42\n+41 43 210 71 08\nOther locations: https://us02web.zoom.us/u/kc7FZabPlf\n\nIf you have any questions or need to cancel your registration\, please reply to this Email.\n\nYour Global Compact Network Switzerland & Liechtenstein Secretariat\n\n\n\n\nHere are the event details:\n\nKey Embeddedness Indicator: A new tool to determine a company's contribution to SDG 8\n25 June 2021\, 14:00–15:00 CEST\nOnline Event
X-ALT-DESC;FMTTYPE=text/html:Thank you for registering to our event "Key Embeddedness Indicator: A new tool to determine a company's contribution to SDG 8".\n\nWe're looking forward to seeing you there.\n\nJoin Zoom Meeting\n https://us02web.zoom.us/j/87403802404\n\nMeeting ID: 874 0380 2404\n\nDial in according to current location (Switzerland):\n+41 44 529 92 72\n+41 22 591 00 05\n+41 22 591 01 56\n+41 31 528 09 88\n+41 43 210 70 42\n+41 43 210 71 08\nOther locations: https://us02web.zoom.us/u/kc7FZabPlf\n\nIf you have any questions or need to cancel your registration\, please reply to this Email.\n\nYour Global Compact Network Switzerland & Liechtenstein Secretariat\n\n\n\n\nHere are the event details:<br>Key Embeddedness Indicator: A new tool to determine a company's contribution to SDG 8\n25 June 2021\, 14:00–15:00 CEST\nOnline Event
END:VEVENT
END:VCALENDAR
