BEGIN:VCALENDAR
CALSCALE:GREGORIAN
BEGIN:VEVENT
DTSTAMP:20231022T063340Z
DTSTART:20220502T063000Z
DTEND:20220502T100000Z
SUMMARY:Fachseminar "Neue Bestimmungen zum Schutz von Mensch und Umwelt"
UID:c0cbcd00-1a23-41e1-a132-90ecdae11044
LOCATION:St. Jakobs-Strasse 25\, 4010 Basel\, Switzerland
X-ALT-DESC;FMTTYPE=text/html:
END:VEVENT
END:VCALENDAR
