BEGIN:VCALENDAR
CALSCALE:GREGORIAN
BEGIN:VEVENT
DTSTAMP:20231022T063037Z
DTSTART:20221206T140000Z
DTEND:20221207T140000Z
SUMMARY:COP27 Debrief: What's next for the private sector
UID:c28c5fb6-a5da-4999-ac55-209322b9e47e
LOCATION:
X-ALT-DESC;FMTTYPE=text/html:
END:VEVENT
END:VCALENDAR
