BEGIN:VCALENDAR
CALSCALE:GREGORIAN
BEGIN:VEVENT
DTSTAMP:20231022T060908Z
DTSTART:20230831T120000Z
DTEND:20230831T133000Z
SUMMARY:Introduction to the UN Global Compact & CSR/RBC (English) 
UID:c2cfade6-9a7a-49f1-b7bb-9cc723150b86
LOCATION:
DESCRIPTION:Thank you for registering to our event "Introduction to the UN Global Compact and CSR/RBC".\n\nWe're looking forward to seeing you there.\n\nJoin Zoom Meeting\nhttps://us02web.zoom.us/j/85920436087\n\nMeeting ID: 859 2043 6087\n\nIf you have any questions or need to cancel your registration\, please reply to this Email.\n\nYour Global Compact Network Switzerland & Liechtenstein Secretariat\n\n\n\nHere are the event details:\n\nIntroduction to the UN Global Compact & CSR/RBC (English) \n31 August 2023\, 14:00–15:30 CEST\nOnline Event
X-ALT-DESC;FMTTYPE=text/html:Thank you for registering to our event "Introduction to the UN Global Compact and CSR/RBC".\n\nWe're looking forward to seeing you there.\n\nJoin Zoom Meeting\nhttps://us02web.zoom.us/j/85920436087\n\nMeeting ID: 859 2043 6087\n\nIf you have any questions or need to cancel your registration\, please reply to this Email.\n\nYour Global Compact Network Switzerland & Liechtenstein Secretariat\n\n\n\nHere are the event details:<br>Introduction to the UN Global Compact & CSR/RBC (English) \n31 August 2023\, 14:00–15:30 CEST\nOnline Event
END:VEVENT
END:VCALENDAR
