BEGIN:VCALENDAR
CALSCALE:GREGORIAN
BEGIN:VEVENT
DTSTAMP:20231022T062823Z
DTSTART:20210517T143000Z
DTEND:20210517T153000Z
SUMMARY:Corporate Digital Responsibility for our common future
UID:c33a176e-17d3-4073-9d35-2000080b8092
LOCATION:
DESCRIPTION:Thank you for registering to our event "Corporate Digital Responsibility for our common future".\n\nWe're looking forward to seeing you there.\n\nJoin Zoom Meeting\nhttps://us02web.zoom.us/j/84364339783\n\nMeeting ID: 843 6433 9783\n\nDial in according to current location (Switzerland):\n+41 44 529 92 72\n+41 22 591 00 05\n+41 22 591 01 56\n+41 31 528 09 88\n+41 43 210 70 42\n+41 43 210 71 08\nOther locations: https://us02web.zoom.us/u/kc7FZabPlf\n\nIf you have any questions or need to cancel your registration\, please reply to this Email.\n\nYour Global Compact Network Switzerland & Liechtenstein Secretariat\n\n\n\nHere are the event details:\n\nCorporate Digital Responsibility for our common future\n17 May 2021\, 16:30–17:30 CEST\nOnline Event
X-ALT-DESC;FMTTYPE=text/html:Thank you for registering to our event "Corporate Digital Responsibility for our common future".\n\nWe're looking forward to seeing you there.\n\nJoin Zoom Meeting\nhttps://us02web.zoom.us/j/84364339783\n\nMeeting ID: 843 6433 9783\n\nDial in according to current location (Switzerland):\n+41 44 529 92 72\n+41 22 591 00 05\n+41 22 591 01 56\n+41 31 528 09 88\n+41 43 210 70 42\n+41 43 210 71 08\nOther locations: https://us02web.zoom.us/u/kc7FZabPlf\n\nIf you have any questions or need to cancel your registration\, please reply to this Email.\n\nYour Global Compact Network Switzerland & Liechtenstein Secretariat\n\n\n\nHere are the event details:<br>Corporate Digital Responsibility for our common future\n17 May 2021\, 16:30–17:30 CEST\nOnline Event
END:VEVENT
END:VCALENDAR
