BEGIN:VCALENDAR
CALSCALE:GREGORIAN
BEGIN:VEVENT
DTSTAMP:20231022T063420Z
DTSTART:20220404T120000Z
DTEND:20220404T133000Z
SUMMARY:What distinguishes the TCFD recommendation from other reporting frameworks (1/3)
UID:c3b08105-22d6-4045-a8b2-f309d3a6d21c
LOCATION:
DESCRIPTION:Thank you for registering to our event "What distinguishes the TCFD recommendation from other reporting frameworks (1/3)".\n\nWe're looking forward to seeing you there.\n\nJoin Zoom Meeting\n https://us02web.zoom.us/j/83449132198\n\nMeeting-ID: 834 4913 2198\n\nDial in according to current location (Switzerland):\n+41 44 529 92 72\n+41 22 591 00 05\n+41 22 591 01 56\n+41 31 528 09 88\n+41 43 210 70 42\n+41 43 210 71 08\nOther locations: https://us02web.zoom.us/u/kc7FZabPlf\n\nIf you have any questions or need to cancel your registration\, please reply to this Email.\n\nYour Global Compact Network Switzerland & Liechtenstein Secretariat\n\n\n\nHere are the event details:\n\nWhat distinguishes the TCFD recommendation from other reporting frameworks (1/3)\n4 April 2022\, 14:00–15:30 CEST\nWebinar Series
X-ALT-DESC;FMTTYPE=text/html:Thank you for registering to our event "What distinguishes the TCFD recommendation from other reporting frameworks (1/3)".\n\nWe're looking forward to seeing you there.\n\nJoin Zoom Meeting\n https://us02web.zoom.us/j/83449132198\n\nMeeting-ID: 834 4913 2198\n\nDial in according to current location (Switzerland):\n+41 44 529 92 72\n+41 22 591 00 05\n+41 22 591 01 56\n+41 31 528 09 88\n+41 43 210 70 42\n+41 43 210 71 08\nOther locations: https://us02web.zoom.us/u/kc7FZabPlf\n\nIf you have any questions or need to cancel your registration\, please reply to this Email.\n\nYour Global Compact Network Switzerland & Liechtenstein Secretariat\n\n\n\nHere are the event details:<br>What distinguishes the TCFD recommendation from other reporting frameworks (1/3)\n4 April 2022\, 14:00–15:30 CEST\nWebinar Series
END:VEVENT
END:VCALENDAR
