BEGIN:VCALENDAR
CALSCALE:GREGORIAN
BEGIN:VEVENT
DTSTAMP:20231022T063212Z
DTSTART:20210211T140000Z
DTEND:20210211T160000Z
SUMMARY:Introduction to the UNGC and CSR/RBC
UID:cae6683d-7350-4cbe-8f1c-cad6f130a083
LOCATION:
DESCRIPTION:Thank you for registering to our event "Introduction to the UNGC and CSR/RBC"\n\nWe're looking forward to seeing you there.\n\nJoin Zoom Meeting\nhttps://us02web.zoom.us/j/85300626391\n\nMeeting ID: 853 0062 6391\n\nDial in according to current location (Switzerland):\n+41 44 529 92 72\n+41 22 591 00 05\n+41 22 591 01 56\n+41 31 528 09 88\n+41 43 210 70 42\n+41 43 210 71 08\nOther locations: https://us02web.zoom.us/u/kc7FZabPlf\n\nIf you have any questions or need to cancel your registration\, please reply to this Email.\n\nYour Global Compact Network Switzerland & Liechtenstein Secretariat\n\n\n\nHere are the event details:\n\nIntroduction to the UNGC and CSR/RBC\n11 February 2021\, 15:00–17:00\nOnline Event
X-ALT-DESC;FMTTYPE=text/html:Thank you for registering to our event "Introduction to the UNGC and CSR/RBC"\n\nWe're looking forward to seeing you there.\n\nJoin Zoom Meeting\nhttps://us02web.zoom.us/j/85300626391\n\nMeeting ID: 853 0062 6391\n\nDial in according to current location (Switzerland):\n+41 44 529 92 72\n+41 22 591 00 05\n+41 22 591 01 56\n+41 31 528 09 88\n+41 43 210 70 42\n+41 43 210 71 08\nOther locations: https://us02web.zoom.us/u/kc7FZabPlf\n\nIf you have any questions or need to cancel your registration\, please reply to this Email.\n\nYour Global Compact Network Switzerland & Liechtenstein Secretariat\n\n\n\nHere are the event details:<br>Introduction to the UNGC and CSR/RBC\n11 February 2021\, 15:00–17:00\nOnline Event
END:VEVENT
END:VCALENDAR
