BEGIN:VCALENDAR
CALSCALE:GREGORIAN
BEGIN:VEVENT
DTSTAMP:20231022T063413Z
DTSTART:20200831T163000Z
DTEND:20200831T183000Z
SUMMARY:GCNSL & SGES Vorabend Dialog: Nachhaltiger Wohlstand durch künstliche Intelligenz?
UID:cc780ffc-8c2d-428e-b47a-92680ecda999
LOCATION:Stadthausstrasse 4\, 8400 Winterthur\, Schweiz
DESCRIPTION:Thank you for registering to our event!\n\nWe're looking forward to seeing you there.\n\nHere are the event details:\n\nGCNSL & SGES Vorabend Dialog: Nachhaltiger Wohlstand durch künstliche Intelligenz?\n31 August 2020\, 18:30–20:30\nPark Hotel Winterthur\, Stadthausstrasse 4\, 8400 Winterthur\, Schweiz
X-ALT-DESC;FMTTYPE=text/html:Thank you for registering to our event!\n\nWe're looking forward to seeing you there.\n\nHere are the event details:<br>GCNSL & SGES Vorabend Dialog: Nachhaltiger Wohlstand durch künstliche Intelligenz?\n31 August 2020\, 18:30–20:30\nPark Hotel Winterthur\, Stadthausstrasse 4\, 8400 Winterthur\, Schweiz
END:VEVENT
END:VCALENDAR
