BEGIN:VCALENDAR
CALSCALE:GREGORIAN
BEGIN:VEVENT
DTSTAMP:20231022T063320Z
DTSTART:20210406T120000Z
DTEND:20210406T133000Z
SUMMARY:Human Rights Due Diligence Step 3 - Defining effective measures to cease\, prevent or mitigate impacts
UID:ccadb29f-d553-4fbc-a91d-f906114fb036
LOCATION:
DESCRIPTION:Thank you for registering to our event "Human Rights Due Diligence Step 3 - Defining effective measures to cease\, prevent or mitigate impact"\n\nWe're looking forward to seeing you there.\n\nJoin Teams Meeting\nhttps://bit.ly/3csioP0\n\nIf you have any questions or need to cancel your participation\, please reply to this Email.\n\nYour Global Compact Network Switzerland & Liechtenstein Secretariat\n\n\n\nHere are the event details:\n\nHuman Rights Due Diligence Step 3 - Defining effective measures to cease\, prevent or mitigate impacts\n6 April 2021\, 14:00–15:30 CEST\nOnline Event
X-ALT-DESC;FMTTYPE=text/html:Thank you for registering to our event "Human Rights Due Diligence Step 3 - Defining effective measures to cease\, prevent or mitigate impact"\n\nWe're looking forward to seeing you there.\n\nJoin Teams Meeting\nhttps://bit.ly/3csioP0\n\nIf you have any questions or need to cancel your participation\, please reply to this Email.\n\nYour Global Compact Network Switzerland & Liechtenstein Secretariat\n\n\n\nHere are the event details:<br>Human Rights Due Diligence Step 3 - Defining effective measures to cease\, prevent or mitigate impacts\n6 April 2021\, 14:00–15:30 CEST\nOnline Event
END:VEVENT
END:VCALENDAR
