BEGIN:VCALENDAR
CALSCALE:GREGORIAN
BEGIN:VEVENT
DTSTAMP:20231022T063255Z
DTSTART:20220126T151500Z
DTEND:20220126T163000Z
SUMMARY:Neuropolitics and Sustainability Talk Series I: How can we achieve inclusionary social brains?
UID:cd794d47-b99e-441d-950d-1c0107f01b7e
LOCATION:
DESCRIPTION:Thank you for registering to our event "Neuropolitics and Sustainability Talk Series: How can we achieve inclusionary social brains?".\n\nWe're looking forward to seeing you there.\n\nJoin Zoom Meeting\nhttps://us02web.zoom.us/j/86569897485\n\nMeeting-ID: 865 6989 7485\n\nDial in according to current location (Switzerland):\n+41 44 529 92 72\n+41 22 591 00 05\n+41 22 591 01 56\n+41 31 528 09 88\n+41 43 210 70 42\n+41 43 210 71 08\nOther locations: https://us02web.zoom.us/u/kc7FZabPlf\n\nIf you have any questions or need to cancel your participation\, please reply to this Email.\n\nYour Global Compact Network Switzerland & Liechtenstein Secretariat\n\nHere are the event details:\n\nNeuropolitics and Sustainability Talk Series I: How can we achieve inclusionary social brains?\n26 January 2022\, 16:15–17:30 CET\nOnline Event
X-ALT-DESC;FMTTYPE=text/html:Thank you for registering to our event "Neuropolitics and Sustainability Talk Series: How can we achieve inclusionary social brains?".\n\nWe're looking forward to seeing you there.\n\nJoin Zoom Meeting\nhttps://us02web.zoom.us/j/86569897485\n\nMeeting-ID: 865 6989 7485\n\nDial in according to current location (Switzerland):\n+41 44 529 92 72\n+41 22 591 00 05\n+41 22 591 01 56\n+41 31 528 09 88\n+41 43 210 70 42\n+41 43 210 71 08\nOther locations: https://us02web.zoom.us/u/kc7FZabPlf\n\nIf you have any questions or need to cancel your participation\, please reply to this Email.\n\nYour Global Compact Network Switzerland & Liechtenstein Secretariat\n\nHere are the event details:<br>Neuropolitics and Sustainability Talk Series I: How can we achieve inclusionary social brains?\n26 January 2022\, 16:15–17:30 CET\nOnline Event
END:VEVENT
END:VCALENDAR
