BEGIN:VCALENDAR
CALSCALE:GREGORIAN
BEGIN:VEVENT
DTSTAMP:20231022T063050Z
DTSTART:20220620T120000Z
DTEND:20220620T133000Z
SUMMARY:Introduction to Human Rights Due Diligence
UID:cd82f84a-776b-4ed9-9b64-75481372d404
LOCATION:
DESCRIPTION:Thank you for registering to our event "Introduction to Human Rights Due Diligence". \n\nWe're looking forward to seeing you there.\n\nJoin the webinar over this link:\nhttps://bit.ly/3wX09vc\n\nWith the following link to a survey you have the opportunity to immerse yourself in the topic before the event and to reflect on the current implementation status of human rights due diligence in your company: https://bit.ly/3MwPz29\nThank you very much for your time - your answers are an important basis for developing the content of the webinar.\n\nIf you have any questions or need to cancel your registration\, please reply to this Email.\n\nYour Global Compact Network Switzerland & Liechtenstein Secretariat\n\nHere are the event details:\n\nIntroduction to Human Rights Due Diligence\n20 June 2022\, 14:00–15:30\nWebinar
X-ALT-DESC;FMTTYPE=text/html:Thank you for registering to our event "Introduction to Human Rights Due Diligence". \n\nWe're looking forward to seeing you there.\n\nJoin the webinar over this link:\nhttps://bit.ly/3wX09vc\n\nWith the following link to a survey you have the opportunity to immerse yourself in the topic before the event and to reflect on the current implementation status of human rights due diligence in your company: https://bit.ly/3MwPz29\nThank you very much for your time - your answers are an important basis for developing the content of the webinar.\n\nIf you have any questions or need to cancel your registration\, please reply to this Email.\n\nYour Global Compact Network Switzerland & Liechtenstein Secretariat\n\nHere are the event details:<br>Introduction to Human Rights Due Diligence\n20 June 2022\, 14:00–15:30\nWebinar
END:VEVENT
END:VCALENDAR
