BEGIN:VCALENDAR
CALSCALE:GREGORIAN
BEGIN:VEVENT
DTSTAMP:20231022T062857Z
DTSTART:20200113T123000Z
DTEND:20200113T153000Z
SUMMARY:Workshop with GCNSL Stakeholders
UID:d60637d0-c6de-40bd-9ce3-4d630a45759a
LOCATION:Schauplatzgasse 11\, 3011 Bern\, Schweiz
DESCRIPTION:Thank you for registering to our event!\n\nWe're looking forward to seeing you there.\n\nHere are the event details:\n\nWorkshop with GCNSL Stakeholders\n13 January 2020\, 13:30–16:30\nRaiffeisenforum Bern\, Schauplatzgasse 11\, 3011 Bern\, Schweiz
X-ALT-DESC;FMTTYPE=text/html:Thank you for registering to our event!\n\nWe're looking forward to seeing you there.\n\nHere are the event details:<br>Workshop with GCNSL Stakeholders\n13 January 2020\, 13:30–16:30\nRaiffeisenforum Bern\, Schauplatzgasse 11\, 3011 Bern\, Schweiz
END:VEVENT
END:VCALENDAR
