BEGIN:VCALENDAR
CALSCALE:GREGORIAN
BEGIN:VEVENT
DTSTAMP:20231022T062858Z
DTSTART:20220913T101500Z
DTEND:20220913T143000Z
SUMMARY:GCNSL & öbu: 11th Meeting of the Working Group on Sustainable Supply Chain Management
UID:d71a0f66-9a04-48a7-9420-9a8dbc944ebe
LOCATION:Affolternstrasse 44\, 8050 Zürich\, Schweiz
DESCRIPTION:Thanks a lot for your registration to the "11th Meeting of the Working Group on Sustainable Supply Chain Management". \n\nWe look forward to welcoming you on the premises of ABB in Oerlikon on the 13th September. Further information on the programme will follow in due course. \n\nIf you have any questions or need to cancel your participation\, please reply to this email.\n\nKind regards\, \nYour WG SSCM Team\n\nGCNSL & öbu: 11th Meeting of the Working Group on Sustainable Supply Chain Management\n13 September 2022\, 12:15–16:30 CEST\nABB\, Affolternstrasse 44\, 8050 Zürich\, Schweiz
X-ALT-DESC;FMTTYPE=text/html:Thanks a lot for your registration to the "11th Meeting of the Working Group on Sustainable Supply Chain Management". \n\nWe look forward to welcoming you on the premises of ABB in Oerlikon on the 13th September. Further information on the programme will follow in due course. \n\nIf you have any questions or need to cancel your participation\, please reply to this email.\n\nKind regards\, \nYour WG SSCM Team<br>GCNSL & öbu: 11th Meeting of the Working Group on Sustainable Supply Chain Management\n13 September 2022\, 12:15–16:30 CEST\nABB\, Affolternstrasse 44\, 8050 Zürich\, Schweiz
END:VEVENT
END:VCALENDAR
