BEGIN:VCALENDAR
CALSCALE:GREGORIAN
BEGIN:VEVENT
DTSTAMP:20231022T063136Z
DTSTART:20200629T080000Z
DTEND:20200629T091500Z
SUMMARY:Webinar: Unternehmen und Kinderrechte - Eine Einführung inkl. Fokus auf Lieferketten
UID:d74a8f37-a3e2-4631-a26c-dc77e95a2285
LOCATION:
DESCRIPTION:Thank you for registering to our event!\n\nWe're looking forward to seeing you there.\n\nHere are the event details:\n\nWebinar: Unternehmen und Kinderrechte - Eine Einführung inkl. Fokus auf Lieferketten\n29 June 2020\, 10:00–11:15\nWebinar
X-ALT-DESC;FMTTYPE=text/html:Thank you for registering to our event!\n\nWe're looking forward to seeing you there.\n\nHere are the event details:<br>Webinar: Unternehmen und Kinderrechte - Eine Einführung inkl. Fokus auf Lieferketten\n29 June 2020\, 10:00–11:15\nWebinar
END:VEVENT
END:VCALENDAR
