BEGIN:VCALENDAR
CALSCALE:GREGORIAN
BEGIN:VEVENT
DTSTAMP:20231022T063430Z
DTSTART:20220914T080000Z
DTEND:20220914T093000Z
SUMMARY:Webinarreihe: Einführung in unternehmerische Klimaschutzmassnahmen - Entwicklung einer Klimastrategie (1/4)
UID:d79ccd3a-e5f1-4e19-aa75-4fcfa5df85c2
LOCATION:
DESCRIPTION:Vielen Dank für Ihre Anmeldung zu unserer Veranstaltung "Einführung in unternehmerische Klimaschutzmassnahmen: Entwicklung einer Klimastrategie"\n\nWir freuen uns darauf\, Sie dort zu begrüssen zu dürfen.\n\nJoin Zoom Meeting\nhttps://us02web.zoom.us/j/86947866502\n\nMeeting ID:  869 4786 6502\n\nDial in according to current location (Switzerland):\n  +41 43 210 70 42 Schweiz\n  +41 43 210 71 08 Schweiz\n  +41 44 529 92 72 Schweiz\n  +41 22 591 00 05 Schweiz\n  +41 22 591 01 56 Schweiz\n  +41 31 528 09 88 Schweiz\nOther locations:  https://us02web.zoom.us/j/86947866502\n\n\nWenn Sie Fragen haben oder Ihre Anmeldung stornieren möchten\, antworten Sie bitte auf diese E-Mail.\n\nIhr Global Compact Netzwerk Schweiz & Liechtenstein Sekretariat\n\n\nEventdetails:\n\nWebinarreihe: Einführung in unternehmerische Klimaschutzmassnahmen - Entwicklung einer Klimastrategie (1/4)\n14 September 2022\, 10:00–11:30 CEST\nWebinar
X-ALT-DESC;FMTTYPE=text/html:Vielen Dank für Ihre Anmeldung zu unserer Veranstaltung "Einführung in unternehmerische Klimaschutzmassnahmen: Entwicklung einer Klimastrategie"\n\nWir freuen uns darauf\, Sie dort zu begrüssen zu dürfen.\n\nJoin Zoom Meeting\nhttps://us02web.zoom.us/j/86947866502\n\nMeeting ID:  869 4786 6502\n\nDial in according to current location (Switzerland):\n  +41 43 210 70 42 Schweiz\n  +41 43 210 71 08 Schweiz\n  +41 44 529 92 72 Schweiz\n  +41 22 591 00 05 Schweiz\n  +41 22 591 01 56 Schweiz\n  +41 31 528 09 88 Schweiz\nOther locations:  https://us02web.zoom.us/j/86947866502\n\n\nWenn Sie Fragen haben oder Ihre Anmeldung stornieren möchten\, antworten Sie bitte auf diese E-Mail.\n\nIhr Global Compact Netzwerk Schweiz & Liechtenstein Sekretariat\n\n\nEventdetails:<br>Webinarreihe: Einführung in unternehmerische Klimaschutzmassnahmen - Entwicklung einer Klimastrategie (1/4)\n14 September 2022\, 10:00–11:30 CEST\nWebinar
END:VEVENT
END:VCALENDAR
