BEGIN:VCALENDAR
CALSCALE:GREGORIAN
BEGIN:VEVENT
DTSTAMP:20231022T062917Z
DTSTART:20220912T120000Z
DTEND:20220912T133000Z
SUMMARY:Introduction to corporate climate action: Developing a climate strategy (1/4)
UID:d7a7e23e-fc64-4d3a-a5ec-2c72642b8649
LOCATION:
DESCRIPTION:Thank you for registering to our event "Introductory Webinar: How to develop a sustainability strategy"\n\nWe're looking forward to seeing you there.\n\nJoin Zoom Meeting\n https://us02web.zoom.us/j/83459882763\n\nMeeting ID:  834 5988 2763\n\nDial in according to current location (Switzerland):\n  +41 43 210 70 42 Schweiz\n  +41 43 210 71 08 Schweiz\n  +41 44 529 92 72 Schweiz\n  +41 22 591 00 05 Schweiz\n  +41 22 591 01 56 Schweiz\n  +41 31 528 09 88 Schweiz\nMeeting-ID: 860 3183 2509\nOther locations:  https://us02web.zoom.us/j/83459882763\n\n\nIf you have any questions or need to cancel your registration\, please reply to this Email.\n\nYour Global Compact Network Switzerland & Liechtenstein Secretariat\n\n\n\nHere are the event details\n\nIntroduction to corporate climate action: Developing a climate strategy (1/4)\n12 September 2022\, 14:00–15:30 CEST\nWebinar
X-ALT-DESC;FMTTYPE=text/html:Thank you for registering to our event "Introductory Webinar: How to develop a sustainability strategy"\n\nWe're looking forward to seeing you there.\n\nJoin Zoom Meeting\n https://us02web.zoom.us/j/83459882763\n\nMeeting ID:  834 5988 2763\n\nDial in according to current location (Switzerland):\n  +41 43 210 70 42 Schweiz\n  +41 43 210 71 08 Schweiz\n  +41 44 529 92 72 Schweiz\n  +41 22 591 00 05 Schweiz\n  +41 22 591 01 56 Schweiz\n  +41 31 528 09 88 Schweiz\nMeeting-ID: 860 3183 2509\nOther locations:  https://us02web.zoom.us/j/83459882763\n\n\nIf you have any questions or need to cancel your registration\, please reply to this Email.\n\nYour Global Compact Network Switzerland & Liechtenstein Secretariat\n\n\n\nHere are the event details<br>Introduction to corporate climate action: Developing a climate strategy (1/4)\n12 September 2022\, 14:00–15:30 CEST\nWebinar
END:VEVENT
END:VCALENDAR
