BEGIN:VCALENDAR
CALSCALE:GREGORIAN
BEGIN:VEVENT
DTSTAMP:20231022T063223Z
DTSTART:20230323T150000Z
DTEND:20230323T160000Z
SUMMARY:HRDD Peer Learning & Networking Group 
UID:d8930568-fef2-44b5-8a4e-24b3d6150344
LOCATION:Josefstrasse 53\, 8005 Zürich\, Schweiz
X-ALT-DESC;FMTTYPE=text/html:
END:VEVENT
END:VCALENDAR
