BEGIN:VCALENDAR
CALSCALE:GREGORIAN
BEGIN:VEVENT
DTSTAMP:20231022T062853Z
DTSTART:20210114T143000Z
DTEND:20210114T163000Z
SUMMARY:Understanding anti-corruption management systems under ISO 37001
UID:d8c2acc6-e0d0-4446-a4d5-8fe441986aa5
LOCATION:
DESCRIPTION:Thank you for registering to our event.\n\nWe're looking forward to seeing you there.\n\nYour personal login details will be emailed to you prior to the event. \n\nHere are the event details:\n\nUnderstanding anti-corruption management systems under ISO 37001\n14 January 2021\, 15:30–17:30\nOnline Event
X-ALT-DESC;FMTTYPE=text/html:Thank you for registering to our event.\n\nWe're looking forward to seeing you there.\n\nYour personal login details will be emailed to you prior to the event. \n\nHere are the event details:<br>Understanding anti-corruption management systems under ISO 37001\n14 January 2021\, 15:30–17:30\nOnline Event
END:VEVENT
END:VCALENDAR
