BEGIN:VCALENDAR
CALSCALE:GREGORIAN
BEGIN:VEVENT
DTSTAMP:20231022T063243Z
DTSTART:20220905T120000Z
DTEND:20220905T130000Z
SUMMARY:7th Briefing on Regulatory Trends in the European Union and at the International Level
UID:d9e1006c-3b5c-4152-967b-92a3042ec042
LOCATION:
DESCRIPTION:Thank you for registering to our event "7th Briefing on Regulatory Trends in the European Union and at the International Level".\n\nWe're looking forward to seeing you there.\n\nJoin Zoom Meeting\nhttps://us02web.zoom.us/j/82607552376\n\nMeeting-ID: 826 0755 2376\n\nDial in according to current location (Switzerland):\n+41 44 529 92 72\n+41 22 591 00 05\n+41 22 591 01 56\n+41 31 528 09 88\n+41 43 210 70 42\n+41 43 210 71 08\nOther locations: https://us02web.zoom.us/u/kc7FZabPlf\n\nIf you have any questions or need to cancel your registration\, please reply to this Email.\n\nYour Global Compact Network Switzerland & Liechtenstein Secretariat\n\nHere are the event details:\n\n7th Briefing on Regulatory Trends in the European Union and at the International Level\n5 September 2022\, 14:00–15:00\nOnline Event
X-ALT-DESC;FMTTYPE=text/html:Thank you for registering to our event "7th Briefing on Regulatory Trends in the European Union and at the International Level".\n\nWe're looking forward to seeing you there.\n\nJoin Zoom Meeting\nhttps://us02web.zoom.us/j/82607552376\n\nMeeting-ID: 826 0755 2376\n\nDial in according to current location (Switzerland):\n+41 44 529 92 72\n+41 22 591 00 05\n+41 22 591 01 56\n+41 31 528 09 88\n+41 43 210 70 42\n+41 43 210 71 08\nOther locations: https://us02web.zoom.us/u/kc7FZabPlf\n\nIf you have any questions or need to cancel your registration\, please reply to this Email.\n\nYour Global Compact Network Switzerland & Liechtenstein Secretariat\n\nHere are the event details:<br>7th Briefing on Regulatory Trends in the European Union and at the International Level\n5 September 2022\, 14:00–15:00\nOnline Event
END:VEVENT
END:VCALENDAR
