BEGIN:VCALENDAR
CALSCALE:GREGORIAN
BEGIN:VEVENT
DTSTAMP:20231022T063435Z
DTSTART:20230424T120000Z
DTEND:20230424T130000Z
SUMMARY:9th Briefing on Regulatory Trends in the European Union and at the International Level
UID:d1a63867-028e-418f-ae5d-f16fd2defedb
LOCATION:
DESCRIPTION:Thank you for registering to our event "9th Briefing on Regulatory Trends in the European Union and at the International Level".\n\nWe're looking forward to seeing you there.\n\nJoin Zoom Meeting\nhttps://us02web.zoom.us/j/87334786199\n\nMeeting ID: 873 3478 6199\nOne tap mobile\n+41225910156\,\,87334786199# Switzerland\n+41315280988\,\,87334786199# Switzerland\n\nDial by your location\n        +41 22 591 01 56 Switzerland\n        +41 31 528 09 88 Switzerland\n        +41 43 210 70 42 Switzerland\n        +41 43 210 71 08 Switzerland\n        +41 44 529 92 72 Switzerland\n        +41 22 591 00 05 Switzerland\n\nIf you have any questions or need to cancel your registration\, please reply to this Email.\n\nYour Global Compact Network Switzerland & Liechtenstein Secretariat\n\nHere are the event details:\n\n9th Briefing on Regulatory Trends in the European Union and at the International Level\n24 April 2023\, 14:00–15:00\nOnline Event
X-ALT-DESC;FMTTYPE=text/html:Thank you for registering to our event "9th Briefing on Regulatory Trends in the European Union and at the International Level".\n\nWe're looking forward to seeing you there.\n\nJoin Zoom Meeting\nhttps://us02web.zoom.us/j/87334786199\n\nMeeting ID: 873 3478 6199\nOne tap mobile\n+41225910156\,\,87334786199# Switzerland\n+41315280988\,\,87334786199# Switzerland\n\nDial by your location\n        +41 22 591 01 56 Switzerland\n        +41 31 528 09 88 Switzerland\n        +41 43 210 70 42 Switzerland\n        +41 43 210 71 08 Switzerland\n        +41 44 529 92 72 Switzerland\n        +41 22 591 00 05 Switzerland\n\nIf you have any questions or need to cancel your registration\, please reply to this Email.\n\nYour Global Compact Network Switzerland & Liechtenstein Secretariat\n\nHere are the event details:<br>9th Briefing on Regulatory Trends in the European Union and at the International Level\n24 April 2023\, 14:00–15:00\nOnline Event
END:VEVENT
END:VCALENDAR
