BEGIN:VCALENDAR
CALSCALE:GREGORIAN
BEGIN:VEVENT
DTSTAMP:20231022T063422Z
DTSTART:20210615T120000Z
DTEND:20210616T153000Z
SUMMARY:UN Global Compact Leaders Summit 2021
UID:d2212485-4620-4032-bd26-5ffbeac08606
LOCATION:
X-ALT-DESC;FMTTYPE=text/html:
END:VEVENT
END:VCALENDAR
