BEGIN:VCALENDAR
CALSCALE:GREGORIAN
BEGIN:VEVENT
DTSTAMP:20231022T062758Z
DTSTART:20230622T113000Z
DTEND:20230622T130000Z
SUMMARY:Establish effective grievance mechanisms\, remediate impacts and communicate
UID:d2d5654d-c7ce-4a4f-b0ae-6b672f996267
LOCATION:
DESCRIPTION:Thank you for registering to our event "Establish effective grievance mechanisms\, remediate impacts and communicate".\n\nWe're looking forward to seeing you there.\n\nJoin Zoom Meeting\nhttps://us02web.zoom.us/j/86815406177\nMeeting-ID: 868 1540 6177\n\n\nHere are the event details:\n\nEstablish effective grievance mechanisms\, remediate impacts and communicate\n22 June 2023\, 13:30–15:00\nWebinar
X-ALT-DESC;FMTTYPE=text/html:Thank you for registering to our event "Establish effective grievance mechanisms\, remediate impacts and communicate".\n\nWe're looking forward to seeing you there.\n\nJoin Zoom Meeting\nhttps://us02web.zoom.us/j/86815406177\nMeeting-ID: 868 1540 6177\n\n\nHere are the event details:<br>Establish effective grievance mechanisms\, remediate impacts and communicate\n22 June 2023\, 13:30–15:00\nWebinar
END:VEVENT
END:VCALENDAR
