BEGIN:VCALENDAR
CALSCALE:GREGORIAN
BEGIN:VEVENT
DTSTAMP:20231022T063016Z
DTSTART:20221011T080000Z
DTEND:20221011T090000Z
SUMMARY:Global Compact Netzwerk Deutschland: Menschenrechtliche Risikoanalyse – gesetzliche Anforderungen\, relevante Rahmenwerke
UID:d38e9a7e-a897-4c20-a946-a6de1ca29ced
LOCATION:
X-ALT-DESC;FMTTYPE=text/html:
END:VEVENT
END:VCALENDAR
