BEGIN:VCALENDAR
CALSCALE:GREGORIAN
BEGIN:VEVENT
DTSTAMP:20231022T062921Z
DTSTART:20200518T083000Z
DTEND:20200518T094500Z
SUMMARY:General Assembly Global Compact Network Switzerland & Liechtenstein 2020
UID:da91b195-e552-44f0-afd0-38f28caf7588
LOCATION:
DESCRIPTION:Thank you for registering to our event!\n\nWe're looking forward to seeing you there.\n\nHere are the event details:\n\nGeneral Assembly Global Compact Network Switzerland & Liechtenstein 2020\n18 May 2020\, 10:30–11:45\nGeneral Assembly
X-ALT-DESC;FMTTYPE=text/html:Thank you for registering to our event!\n\nWe're looking forward to seeing you there.\n\nHere are the event details:<br>General Assembly Global Compact Network Switzerland & Liechtenstein 2020\n18 May 2020\, 10:30–11:45\nGeneral Assembly
END:VEVENT
END:VCALENDAR
