BEGIN:VCALENDAR
CALSCALE:GREGORIAN
BEGIN:VEVENT
DTSTAMP:20231022T063041Z
DTSTART:20220720T080000Z
DTEND:20220720T084500Z
SUMMARY:Informationsveranstaltung | Neue COP-Berichterstattung ab 2023
UID:db747223-1627-42df-afc5-b88e204b3c92
LOCATION:
X-ALT-DESC;FMTTYPE=text/html:
END:VEVENT
END:VCALENDAR
