BEGIN:VCALENDAR
CALSCALE:GREGORIAN
BEGIN:VEVENT
DTSTAMP:20231022T062849Z
DTSTART:20230223T151500Z
DTEND:20230223T163000Z
SUMMARY:esg2go: Nachhaltigkeit für KMUs praktikabel und fassbar machen
UID:e470bde9-b4d9-4e67-aee9-9a6050bdc5e8
LOCATION:
DESCRIPTION:Thank you for registering to our event "esg2go: Nachhaltigkeit für KMUs praktikabel und fassbar machen".\n\nWe're looking forward to seeing you there.\n\nJoin Zoom Meeting\nhttps://us02web.zoom.us/j/82108153155\n\nMeeting-ID: 821 0815 3155\n\nHere are the event details:\n\nesg2go: Nachhaltigkeit für KMUs praktikabel und fassbar machen\n23 February 2023\, 16:15–17:30\nVirtual Dialogue
X-ALT-DESC;FMTTYPE=text/html:Thank you for registering to our event "esg2go: Nachhaltigkeit für KMUs praktikabel und fassbar machen".\n\nWe're looking forward to seeing you there.\n\nJoin Zoom Meeting\nhttps://us02web.zoom.us/j/82108153155\n\nMeeting-ID: 821 0815 3155\n\nHere are the event details:<br>esg2go: Nachhaltigkeit für KMUs praktikabel und fassbar machen\n23 February 2023\, 16:15–17:30\nVirtual Dialogue
END:VEVENT
END:VCALENDAR
