BEGIN:VCALENDAR
CALSCALE:GREGORIAN
BEGIN:VEVENT
DTSTAMP:20231022T063005Z
DTSTART:20230427T070000Z
DTEND:20230427T080000Z
SUMMARY:Responsible Investment: Transforming responsible investment policies into action
UID:e64a3b8d-feeb-4cde-8878-cec14265768b
LOCATION:
X-ALT-DESC;FMTTYPE=text/html:
END:VEVENT
END:VCALENDAR
