BEGIN:VCALENDAR
CALSCALE:GREGORIAN
BEGIN:VEVENT
DTSTAMP:20231022T063001Z
DTSTART:20200929T094500Z
DTEND:20200929T143000Z
SUMMARY:GCNSL & öbu: 6th Meeting of the Working Group on Sustainable Supply Chains
UID:e9059f75-e9b2-43e5-9dff-7d4dbc3dc4cd
LOCATION:Ebnatstrasse 111\, 8201 Schaffhausen\, Schweiz
DESCRIPTION:Thank you for registering to our event!\n\nWe're looking forward to seeing you there.\n\nHere are the event details:\n\nGCNSL & öbu: 6th Meeting of the Working Group on Sustainable Supply Chains\n29 September 2020\, 11:45–16:30\nGeorg Fischer Piping Systems Ltd\, Ebnatstrasse 111\, 8201 Schaffhausen\, Schweiz
X-ALT-DESC;FMTTYPE=text/html:Thank you for registering to our event!\n\nWe're looking forward to seeing you there.\n\nHere are the event details:<br>GCNSL & öbu: 6th Meeting of the Working Group on Sustainable Supply Chains\n29 September 2020\, 11:45–16:30\nGeorg Fischer Piping Systems Ltd\, Ebnatstrasse 111\, 8201 Schaffhausen\, Schweiz
END:VEVENT
END:VCALENDAR
