BEGIN:VCALENDAR
CALSCALE:GREGORIAN
BEGIN:VEVENT
DTSTAMP:20231022T063356Z
DTSTART:20220331T100000Z
DTEND:20220401T100000Z
SUMMARY:öbu\, Swissmem & Go for Impact Webinar: Menschenrechtliche Sorgfalt – steigende Anforderungen & neue Pflichten für Untern
UID:e0555708-801d-4b21-ba5a-a69ba1378102
LOCATION:
X-ALT-DESC;FMTTYPE=text/html:
END:VEVENT
END:VCALENDAR
