BEGIN:VCALENDAR
CALSCALE:GREGORIAN
BEGIN:VEVENT
DTSTAMP:20231022T063155Z
DTSTART:20200511T100000Z
DTEND:20200511T113000Z
SUMMARY:Sharing & Learning online: Corporate Human Rights Impact Assessment (HRIA)
UID:e13cd48a-a758-487b-9d66-42132ccb87fd
LOCATION:
DESCRIPTION:Thank you for registering to our event!\n\nWe're looking forward to seeing you there.\n\nHere are the event details:\n\nSharing & Learning online: Corporate Human Rights Impact Assessment (HRIA)\n11 May 2020\, 12:00–13:30\nOnline Sharing & Learning
X-ALT-DESC;FMTTYPE=text/html:Thank you for registering to our event!\n\nWe're looking forward to seeing you there.\n\nHere are the event details:<br>Sharing & Learning online: Corporate Human Rights Impact Assessment (HRIA)\n11 May 2020\, 12:00–13:30\nOnline Sharing & Learning
END:VEVENT
END:VCALENDAR
