BEGIN:VCALENDAR
CALSCALE:GREGORIAN
BEGIN:VEVENT
DTSTAMP:20231022T063101Z
DTSTART:20220324T080000Z
DTEND:20220324T103000Z
SUMMARY:10th meeting of the Working Group Sustainable Supply Chains
UID:e1b0dc26-b575-47e9-b36a-d157368e11bf
LOCATION:
X-ALT-DESC;FMTTYPE=text/html:
END:VEVENT
END:VCALENDAR
