BEGIN:VCALENDAR
CALSCALE:GREGORIAN
BEGIN:VEVENT
DTSTAMP:20231022T063240Z
DTSTART:20220915T080000Z
DTEND:20220915T093014Z
SUMMARY:Série de webinaires: Introduction à l'action climatique des entreprises - Développer une stratégie climatique (1/4)
UID:e33222ea-f096-427c-84c4-013f7d9aa326
LOCATION:
DESCRIPTION:Merci de vous inscrire à notre événement "Introduction à l'action climatique des entreprises : Développer une stratégie climatique"\n\nNous nous réjouissons de vous y voir.\n\nJoin Zoom Meeting\nhttps://us02web.zoom.us/j/85421485183\n\nMeeting ID:  854 2148 5183\n\nDial in according to current location (Switzerland):\n  +41 43 210 70 42 Suisse\n  +41 43 210 71 08 Suisse\n  +41 44 529 92 72 Suisse\n  +41 22 591 00 05 Suisse\n  +41 22 591 01 56 Suisse\n  +41 31 528 09 88 Suisse\nOther locations:  \n https://us02web.zoom.us/j/85421485183\n\nSi vous avez des questions ou si vous souhaitez annuler votre inscription\, veuillez répondre à cet e-mail.\n\nVotre secrétariat Global Compact Network Switzerland & Liechtenstein\n\n\n\nVoici les détails de l'événement:\n\nSérie de webinaires: Introduction à l'action climatique des entreprises - Développer une stratégie climatique (1/4)\n15 September 2022\, 10:00–11:30\nWebinar
X-ALT-DESC;FMTTYPE=text/html:Merci de vous inscrire à notre événement "Introduction à l'action climatique des entreprises : Développer une stratégie climatique"\n\nNous nous réjouissons de vous y voir.\n\nJoin Zoom Meeting\nhttps://us02web.zoom.us/j/85421485183\n\nMeeting ID:  854 2148 5183\n\nDial in according to current location (Switzerland):\n  +41 43 210 70 42 Suisse\n  +41 43 210 71 08 Suisse\n  +41 44 529 92 72 Suisse\n  +41 22 591 00 05 Suisse\n  +41 22 591 01 56 Suisse\n  +41 31 528 09 88 Suisse\nOther locations:  \n https://us02web.zoom.us/j/85421485183\n\nSi vous avez des questions ou si vous souhaitez annuler votre inscription\, veuillez répondre à cet e-mail.\n\nVotre secrétariat Global Compact Network Switzerland & Liechtenstein\n\n\n\nVoici les détails de l'événement:<br>Série de webinaires: Introduction à l'action climatique des entreprises - Développer une stratégie climatique (1/4)\n15 September 2022\, 10:00–11:30\nWebinar
END:VEVENT
END:VCALENDAR
