BEGIN:VCALENDAR
CALSCALE:GREGORIAN
BEGIN:VEVENT
DTSTAMP:20231022T063344Z
DTSTART:20220414T140000Z
DTEND:20220414T153000Z
SUMMARY:Global Compact Network UK: Human Rights (SDG Benchmarks for Business Transformation - Webinar Series)
UID:e3b2e054-5ef4-4a47-95a6-b5ee8df6e985
LOCATION:
X-ALT-DESC;FMTTYPE=text/html:
END:VEVENT
END:VCALENDAR
