BEGIN:VCALENDAR
CALSCALE:GREGORIAN
BEGIN:VEVENT
DTSTAMP:20231022T060859Z
DTSTART:20230831T101500Z
DTEND:20230831T150000Z
SUMMARY:GCNSL & öbu: 14th Meeting of the Working Group on Sustainable Supply Chain Management
UID:ee9c1879-56cc-4476-99a8-441745331ddc
LOCATION:Neuwiesenstrasse 15\, 8401 Winterthur\, Switzerland
DESCRIPTION:Thank you for registering to our event "14th Meeting of the Working Group on Sustainable Supply Chain Management"!\n\nWe look forward to welcoming you on the premises of Sulzer AG in Winterthur on the 31th August. Further information on the programme will follow in due course. \nIf you have any questions or need to cancel your participation\, please reply to this email.\n\nKind regards\,\n\nYour UN Global Compact Network Switzerland & Liechtenstein Secretariat\n\n\nHere are the event details:\n\nGCNSL & öbu: 14th Meeting of the Working Group on Sustainable Supply Chain Management\n31 August 2023\, 12:15–17:00\nSulzer AG\, Neuwiesenstrasse 15\, 8401 Winterthur\, Switzerland
X-ALT-DESC;FMTTYPE=text/html:Thank you for registering to our event "14th Meeting of the Working Group on Sustainable Supply Chain Management"!\n\nWe look forward to welcoming you on the premises of Sulzer AG in Winterthur on the 31th August. Further information on the programme will follow in due course. \nIf you have any questions or need to cancel your participation\, please reply to this email.\n\nKind regards\,\n\nYour UN Global Compact Network Switzerland & Liechtenstein Secretariat\n\n\nHere are the event details:<br>GCNSL & öbu: 14th Meeting of the Working Group on Sustainable Supply Chain Management\n31 August 2023\, 12:15–17:00\nSulzer AG\, Neuwiesenstrasse 15\, 8401 Winterthur\, Switzerland
END:VEVENT
END:VCALENDAR
