BEGIN:VCALENDAR
CALSCALE:GREGORIAN
BEGIN:VEVENT
DTSTAMP:20231022T063142Z
DTSTART:20220310T073000Z
DTEND:20220311T073000Z
SUMMARY:Online-Politcafé - Menschenrechtliche Sorgfaltsprüfung von Unternehmen
UID:eeca5bba-1ab8-432c-b65e-9fd9fe358a53
LOCATION:
X-ALT-DESC;FMTTYPE=text/html:
END:VEVENT
END:VCALENDAR
