BEGIN:VCALENDAR
CALSCALE:GREGORIAN
BEGIN:VEVENT
DTSTAMP:20231022T063027Z
DTSTART:20201203T141500Z
DTEND:20201203T151500Z
SUMMARY:Webinar: Abstimmungsergebnisse der Konzernverantwortungsinitiative - Erwartungen an Unternehmen
UID:f42a6383-b375-4daf-88b4-74301836adb5
LOCATION:
DESCRIPTION:Thank you for registering to our event!\n\nWe're looking forward to seeing you there.\n\nHere are the event details:\n\nWebinar: Abstimmungsergebnisse der Konzernverantwortungsinitiative - Erwartungen an Unternehmen\n3 December 2020\, 15:15–16:15\nWebinar
X-ALT-DESC;FMTTYPE=text/html:Thank you for registering to our event!\n\nWe're looking forward to seeing you there.\n\nHere are the event details:<br>Webinar: Abstimmungsergebnisse der Konzernverantwortungsinitiative - Erwartungen an Unternehmen\n3 December 2020\, 15:15–16:15\nWebinar
END:VEVENT
END:VCALENDAR
