BEGIN:VCALENDAR
CALSCALE:GREGORIAN
BEGIN:VEVENT
DTSTAMP:20231022T063239Z
DTSTART:20230624T080000Z
DTEND:20230624T170000Z
SUMMARY:Infotag zur nachhaltigen Wirtschaft
UID:f53968cf-7291-4c6d-94db-cce9cd25913c
LOCATION:Landstrasse 16\, 9494 Schaan\, Liechtenstein
X-ALT-DESC;FMTTYPE=text/html:
END:VEVENT
END:VCALENDAR
